BEGIN:VCALENDAR
VERSION:2.0
PRODID:-//Advanced Physical Therapy Education Institute - ECPv5.8.0//NONSGML v1.0//EN
CALSCALE:GREGORIAN
METHOD:PUBLISH
X-WR-CALNAME:Advanced Physical Therapy Education Institute
X-ORIGINAL-URL:https://www.aptei.ca
X-WR-CALDESC:Events for Advanced Physical Therapy Education Institute
BEGIN:VTIMEZONE
TZID:America/Toronto
BEGIN:DAYLIGHT
TZOFFSETFROM:-0500
TZOFFSETTO:-0400
TZNAME:EDT
DTSTART:20230312T070000
END:DAYLIGHT
BEGIN:STANDARD
TZOFFSETFROM:-0400
TZOFFSETTO:-0500
TZNAME:EST
DTSTART:20231105T060000
END:STANDARD
END:VTIMEZONE
BEGIN:VEVENT
DTSTART;TZID=America/Toronto:20230930T080000
DTEND;TZID=America/Toronto:20231001T170000
DTSTAMP:20260422T095718
CREATED:20221223T190221Z
LAST-MODIFIED:20230822T230954Z
UID:35066-1696060800-1696179600@www.aptei.ca
SUMMARY:ADVANCED CERVICO-THORACIC COMPLEX CERTIFICATION PROGRAM (2 Days): Montreal
DESCRIPTION:Sept. 30 – Oct 1\, 2023 \nInstructor: Dr. Bahram Jam; PT\, FCAMT \n\nMember of the International Association for the Study of Pain (IASP)\nMember of the International Federation of Manipulative Therapists\nCredentialed with The McKenzie Institute International\n\n  \nCOURSE OBJECTIVES \nUpon completion of the 2-day certification course\, the Physical Therapist will be confident in applying evidence-based clinical assessment skills for the classification of individuals presenting with acute\, sub-acute or persistent cervicogenic headaches\, cervical & thoracic pain and neural sensitivities. \nPhysical Therapists will also be able to confidently identify several potential contributing physical\, psychosocial and general health factors to persistent / chronic pain. \nUpon determining the classification and all the potential contributing factors\, PTs will be able to administer the most effective treatment / management options based on the UNIQUE presentation of the patient. \n  \nCRITERIA FOR ACCEPTANCE \n\nThis program is restricted to Registered Physical Therapists who are licensed to practice in Canada\, or PT students awaiting licensing.\nThere are NO prerequisites for this program\nPrior completion of previous APTEI cervical & thoracic courses is optional\, but NOT compulsory\n\n  \nGENERAL COURSE INFORMATION \nTax Receipts provided on course date / $50.00 is non-refundable / No refunds for cancellations 2 weeks or less before course date
URL:https://www.aptei.ca/courses/advanced-cervico-thoracic-montreal-2023/
LOCATION:Action Sport Physio St-Bruno\, 694 Montée Montarville\, St-Bruno\, QC\, J3V 6B1
END:VEVENT
END:VCALENDAR