BEGIN:VCALENDAR
VERSION:2.0
PRODID:-//Advanced Physical Therapy Education Institute - ECPv5.8.0//NONSGML v1.0//EN
CALSCALE:GREGORIAN
METHOD:PUBLISH
X-WR-CALNAME:Advanced Physical Therapy Education Institute
X-ORIGINAL-URL:https://www.aptei.ca
X-WR-CALDESC:Events for Advanced Physical Therapy Education Institute
BEGIN:VTIMEZONE
TZID:America/Toronto
BEGIN:DAYLIGHT
TZOFFSETFROM:-0500
TZOFFSETTO:-0400
TZNAME:EDT
DTSTART:20190310T070000
END:DAYLIGHT
BEGIN:STANDARD
TZOFFSETFROM:-0400
TZOFFSETTO:-0500
TZNAME:EST
DTSTART:20191103T060000
END:STANDARD
END:VTIMEZONE
BEGIN:VEVENT
DTSTART;TZID=America/Toronto:20191205T080000
DTEND;TZID=America/Toronto:20191208T170000
DTSTAMP:20260419T164730
CREATED:20181212T035056Z
LAST-MODIFIED:20181212T035411Z
UID:16370-1575532800-1575824400@www.aptei.ca
SUMMARY:ADVANCED CERVICO-THORACIC COMPLEX CERTIFICATION PROGRAM (4 Days): Toronto\, ON
DESCRIPTION:December 5-8\, 2019 \nInstructor: Dr. Bahram Jam; PT\, FCAMT \n\nMember of the International Federation of Manipulative Therapists\nCredentialed with The McKenzie Institute International\n\n  \nCOURSE OBJECTIVES \nUpon completion of the program\, the Physical Therapist will be confident in applying evidence-based clinical assessment skills for the classification of individuals presenting with acute\, sub-acute or persistent cervical & thoracic pain. \nPhysical Therapists will also be able to confidently identify several potential contributing physical\, psychosocial and general health factors to persistent / chronic pain. \nUpon determining the classification and all the potential contributing factors\, Physical Therapists will be able to administer the most effective treatment / management options based on the UNIQUE presentation of the patient. \nPhysical Therapists will be provided with workbook that will systematically guide the subjective and physical evaluation process. \n  \nCRITERIA FOR ACCEPTANCE \n\nThis program is restricted to Registered Physical Therapists who are licensed to practice in Canada\, or PT students awaiting licensing.\nThere are NO prerequisites for this program\nPrior completion of previous APTEI cervical & thoracic courses is optional\, but NOT compulsory\n\n  \nGENERAL COURSE INFORMATION \nTax Receipts provided on course date / $50.00 is non-refundable / No refunds for cancellations 2 weeks or less before course date \nCPA/OPA members will be provided with a complimentary Pain Truth & Nothing But book
URL:https://www.aptei.ca/courses/advanced-cervico-thoracic-toronto-dec-5-2019/
LOCATION:Athlete’s Care / York University\, 231 Ian MacDonald Blvd / Toronto Track & Field Ctr\, Toronto\, ON\, M3J 1P3\, Canada
END:VEVENT
END:VCALENDAR