BEGIN:VCALENDAR
VERSION:2.0
PRODID:-//Advanced Physical Therapy Education Institute - ECPv5.8.0//NONSGML v1.0//EN
CALSCALE:GREGORIAN
METHOD:PUBLISH
X-WR-CALNAME:Advanced Physical Therapy Education Institute
X-ORIGINAL-URL:https://www.aptei.ca
X-WR-CALDESC:Events for Advanced Physical Therapy Education Institute
BEGIN:VTIMEZONE
TZID:America/Toronto
BEGIN:DAYLIGHT
TZOFFSETFROM:-0500
TZOFFSETTO:-0400
TZNAME:EDT
DTSTART:20190310T070000
END:DAYLIGHT
BEGIN:STANDARD
TZOFFSETFROM:-0400
TZOFFSETTO:-0500
TZNAME:EST
DTSTART:20191103T060000
END:STANDARD
END:VTIMEZONE
BEGIN:VEVENT
DTSTART;TZID=America/Toronto:20191128T080000
DTEND;TZID=America/Toronto:20191201T170000
DTSTAMP:20260419T132908
CREATED:20181212T035542Z
LAST-MODIFIED:20181212T040048Z
UID:16374-1574928000-1575219600@www.aptei.ca
SUMMARY:ADVANCED LOWER EXTREMITY COMPLEX CERTIFICATION PROGRAM (4 Days): Toronto\, ON
DESCRIPTION:November 28-December 1\, 2019 \nInstructor: Dr. Bahram Jam; PT\, FCAMT \n\nMember of the International Federation of Manipulative Therapists\nCredentialed with The McKenzie Institute International\n\n  \nCOURSE OBJECTIVES \nUpon completion of this 4-day program\, the physical therapist will be confident in applying evidence-based clinical assessment skills for the diagnosis and classification of individuals presenting with various common acute\, sub-acute or persistent lower extremity pain syndromes. \n(E.g. Hip & knee OA\, PFPS\, acetabular impingement\, plantar heel pain\, etc.) \nPhysical Therapists will also be able to confidently identify several potential contributing factors to persistent pain and dysfunction at the hip\, knee\, foot and ankle complex. \nUpon determining the diagnosis\, classification and the potential contributing factors\, physical therapists will be able to administer the most effective treatment / management options including specific exercise / movement prescription\, manual therapies and taping. \nCRITERIA FOR ACCEPTANCE \n\nThis program is restricted to Registered Physical Therapists who are licensed to practice in Canada\, or PT students awaiting licensing.\nThere are NO prerequisites for this program\nPrior completion of previous APTEI hip\, knee and ankle courses is optional\, but NOT compulsory\n\nGENERAL COURSE INFORMATION \nTax Receipts provided on course date / $50.00 is non-refundable / No refunds for cancellations 2 weeks or less before course date \n 
URL:https://www.aptei.ca/courses/advanced-lower-extremity-nov-2019-toronto/
LOCATION:Athlete’s Care / York University\, 231 Ian MacDonald Blvd / Toronto Track & Field Ctr\, Toronto\, ON\, M3J 1P3\, Canada
END:VEVENT
END:VCALENDAR