BEGIN:VCALENDAR
VERSION:2.0
PRODID:-//Advanced Physical Therapy Education Institute - ECPv5.8.0//NONSGML v1.0//EN
CALSCALE:GREGORIAN
METHOD:PUBLISH
X-WR-CALNAME:Advanced Physical Therapy Education Institute
X-ORIGINAL-URL:https://www.aptei.ca
X-WR-CALDESC:Events for Advanced Physical Therapy Education Institute
BEGIN:VTIMEZONE
TZID:America/Toronto
BEGIN:DAYLIGHT
TZOFFSETFROM:-0500
TZOFFSETTO:-0400
TZNAME:EDT
DTSTART:20170312T070000
END:DAYLIGHT
BEGIN:STANDARD
TZOFFSETFROM:-0400
TZOFFSETTO:-0500
TZNAME:EST
DTSTART:20171105T060000
END:STANDARD
END:VTIMEZONE
BEGIN:VEVENT
DTSTART;TZID=America/Toronto:20171109T120000
DTEND;TZID=America/Toronto:20171112T200000
DTSTAMP:20260423T043843
CREATED:20170109T193532Z
LAST-MODIFIED:20171106T151138Z
UID:7059-1510228800-1510516800@www.aptei.ca
SUMMARY:ADVANCED UPPER EXTREMITY COMPLEX CERTIFICATION PROGRAM (4 Days): Moncton\, NB (COURSE IS FULL!)
DESCRIPTION:COURSE IS FULL! \nNovember 9-12\, 2017 \nThursday & Friday 12pm-8pm \nSaturday & Sunday 9am-5pm \nInstructor: Dr. Bahram Jam; PT\, FCAMT \n\nMember of the International Federation of Manipulative Therapists\nCredentialed with The McKenzie Institute International\n\n  \nCOURSE OBJECTIVES \nUpon completion of this 4-day program\, the physical therapist will be confident in applying evidence-based clinical assessment skills for the diagnosis and classification of individuals presenting with various common acute\, sub-acute or persistent upper extremity pain syndromes. \n(E.g. persistent impingement syndromes\, adhesive capsultis\, lateral epicondylalgia\, carpal tunnel syndrome\, MCP OA\, etc.) \nPhysical Therapists will also be able to confidently identify several potential contributing factors to persistent pain and dysfunction at the shoulder\, elbow\, wrist and hand complex. \nUpon determining the diagnosis\, classification and the potential contributing factors\, physical therapists will be able to administer the most effective treatment / management options including specific exercise / movement prescription\, manual therapies\, neural mobilizations and taping. \n  \nCRITERIA FOR ACCEPTANCE \n\nThis program is restricted to Registered Physical Therapists who are licensed to practice in Canada\, or PT students awaiting licensing.\nThere are NO prerequisites for this program\nPrior completion of previous APTEI shoulder\, elbow\, wrist & hand courses is optional\, but NOT compulsory\n\n  \nGENERAL COURSE INFORMATION \nTax Receipts provided on course date / $50.00 is non-refundable / No refunds for cancellations 2 weeks or less before course date \n 
URL:https://www.aptei.ca/courses/advanced-upper-extremity-complex-certification-program-4-days-nov-9-12-2017/
LOCATION:The Moncton Hospital (PT Dept.)\, 35 MacBeath Avenue\, Moncton\, NB\, E1C 6Z8\, Canada
END:VEVENT
END:VCALENDAR