BEGIN:VCALENDAR
VERSION:2.0
PRODID:-//Advanced Physical Therapy Education Institute - ECPv5.8.0//NONSGML v1.0//EN
CALSCALE:GREGORIAN
METHOD:PUBLISH
X-WR-CALNAME:Advanced Physical Therapy Education Institute
X-ORIGINAL-URL:https://www.aptei.ca
X-WR-CALDESC:Events for Advanced Physical Therapy Education Institute
BEGIN:VTIMEZONE
TZID:America/Toronto
BEGIN:DAYLIGHT
TZOFFSETFROM:-0500
TZOFFSETTO:-0400
TZNAME:EDT
DTSTART:20250309T070000
END:DAYLIGHT
BEGIN:STANDARD
TZOFFSETFROM:-0400
TZOFFSETTO:-0500
TZNAME:EST
DTSTART:20251102T060000
END:STANDARD
END:VTIMEZONE
BEGIN:VEVENT
DTSTART;TZID=America/Toronto:20250614T080000
DTEND;TZID=America/Toronto:20250615T170000
DTSTAMP:20260420T115135
CREATED:20250220T162220Z
LAST-MODIFIED:20250220T162936Z
UID:40191-1749888000-1750006800@www.aptei.ca
SUMMARY:ADVANCED LUMBO-PELVIC COMPLEX CERTIFICATION PROGRAM (2 Days): New Glasgow\, NS
DESCRIPTION:June 14-15\, 2025 \nInstructor: Dr. Bahram Jam; PT\, FCAMT \n\nMember of the International Association for the Study of Pain (IASP)\nMember of the International Federation of Manipulative Therapists\nCredentialed with The McKenzie Institute International\n\n  \nCOURSE OBJECTIVES \nUpon completion of the program\, the Physical Therapist will be confident in applying evidence-based clinical assessment skills for the classification of individuals presenting with acute\, sub-acute or persistent Lumbo-pelvic pain. \nUpon determining the classification and all the potential contributing factors\, Physical Therapists will be able to administer the most effective treatment / management options based on the UNIQUE presentation of the patient. \nPTs will also gain greater confidence in directly addressing the psychological barriers to recovery such as fear\, stress\, and anger. \nCRITERIA FOR ACCEPTANCE \n\nThis program is restricted to Registered Physical Therapists who are licensed to practice in Canada\, or PT students awaiting licensing.\nThere are NO prerequisites for this program\nPrior completion of previous APTEI lumbo-pelvic courses is optional\, but NOT compulsory\n\n  \nGENERAL COURSE INFORMATION \nTax Receipts provided on course date / $50.00 is non-refundable / No refunds for cancellations 2 weeks or less before course date
URL:https://www.aptei.ca/courses/alp-ns-2025/
LOCATION:Aberdeen Hospital / PT Dept\, 835 East River Road\, New Glasgow\, NS\, B2H 3S6\, Canada
END:VEVENT
END:VCALENDAR