BEGIN:VCALENDAR
VERSION:2.0
PRODID:-//Advanced Physical Therapy Education Institute - ECPv5.8.0//NONSGML v1.0//EN
CALSCALE:GREGORIAN
METHOD:PUBLISH
X-WR-CALNAME:Advanced Physical Therapy Education Institute
X-ORIGINAL-URL:https://www.aptei.ca
X-WR-CALDESC:Events for Advanced Physical Therapy Education Institute
BEGIN:VTIMEZONE
TZID:America/Toronto
BEGIN:DAYLIGHT
TZOFFSETFROM:-0500
TZOFFSETTO:-0400
TZNAME:EDT
DTSTART:20210314T070000
END:DAYLIGHT
BEGIN:STANDARD
TZOFFSETFROM:-0400
TZOFFSETTO:-0500
TZNAME:EST
DTSTART:20211107T060000
END:STANDARD
END:VTIMEZONE
BEGIN:VEVENT
DTSTART;TZID=America/Toronto:20211016T090000
DTEND;TZID=America/Toronto:20211017T170000
DTSTAMP:20260420T070000
CREATED:20191124T121609Z
LAST-MODIFIED:20211014T145714Z
UID:21725-1634374800-1634490000@www.aptei.ca
SUMMARY:Advanced Upper Extremity (Part I) / SHOULDER COMPLEX: Montreal\, QC
DESCRIPTION:October 16-17\, 2021 \nInstructor: Dr. Bahram Jam; PT\, FCAMT \n\nMember of the International Federation of Manipulative Therapists\nCredentialed with The McKenzie Institute International\n\n  \nCOURSE OBJECTIVES \nUpon completion of this 2-day program\, the physical therapist will be confident in applying evidence-based clinical assessment & management skills for  various common acute\, sub-acute or persistent shoulder pain syndromes. \n(E.g. Rotator cuff related shoulder pain (RCRSP)\, adhesive capsultis) \nUpon determining the diagnosis\, classification and the potential contributing factors\, physical therapists will be able to administer the most effective treatment / management options including specific exercise / movement prescription\, manual therapies and taping for high level athletes to a senior population. \nNote: The Elbow\, wrist & hand complex will be covered in the Part II course in the future \nCRITERIA FOR ACCEPTANCE \n\nThis program is restricted to Registered Physical Therapists who are licensed to practice in Canada or internationally\, or PT students awaiting licensing.\nThere are NO prerequisites for this program\nThe Advanced Upper Extremity (Part I) is not required for the (Part II) of this program that focuses on Elbow\, Wrist & Hand Complex offered in the future\n\n  \nGENERAL COURSE INFORMATION \nALL COVID-19 SAFETY precautions will be followed based on the current provincial recommendations \n\nPlease bring your OWN mask\nYou may bring your own lunch\, sandwich and snacks as due to safety factors we cannot serve food or even water\nWe will have hand washing stations and sanitizers as required\n\n\nCourse material is referenced from up to date research articles\nAn easy to understand practical workbook is provided\nAll instructions are provided in a clear and concise manner in order to ensure an effective and enjoyable learning experience\nNote: This is primarily a practical course but you will practice on only ONE partner\, while wearing a mask\n\n  \nTax Receipts provided on course date / $30.00 is non-refundable / No refunds for cancellations 2 weeks or less before course date
URL:https://www.aptei.ca/courses/aue1-shoulder-montreal-oct-2021/
LOCATION:Concordia Physio Sport / Brossard\, 7005 Taschereau\, suite #262\, Brossard\, QC\, Canada
END:VEVENT
END:VCALENDAR