BEGIN:VCALENDAR
VERSION:2.0
PRODID:-//Advanced Physical Therapy Education Institute - ECPv5.8.0//NONSGML v1.0//EN
CALSCALE:GREGORIAN
METHOD:PUBLISH
X-WR-CALNAME:Advanced Physical Therapy Education Institute
X-ORIGINAL-URL:https://www.aptei.ca
X-WR-CALDESC:Events for Advanced Physical Therapy Education Institute
BEGIN:VTIMEZONE
TZID:America/Toronto
BEGIN:DAYLIGHT
TZOFFSETFROM:-0500
TZOFFSETTO:-0400
TZNAME:EDT
DTSTART:20170312T070000
END:DAYLIGHT
BEGIN:STANDARD
TZOFFSETFROM:-0400
TZOFFSETTO:-0500
TZNAME:EST
DTSTART:20171105T060000
END:STANDARD
END:VTIMEZONE
BEGIN:VEVENT
DTSTART;TZID=America/Toronto:20170609T123000
DTEND;TZID=America/Toronto:20170609T160000
DTSTAMP:20260421T112921
CREATED:20170224T173754Z
LAST-MODIFIED:20170608T205410Z
UID:7688-1497011400-1497024000@www.aptei.ca
SUMMARY:INTERVENTIONS FOR PERSISTENT PAIN\, Saint John\, NB (1 Space Left!)
DESCRIPTION:1 Space left! Course also offered June 23rd in Shediac\, NB \nJune 9\, 2017 (12:30am-4:00pm) \nInstructor: Dr. Bahram Jam; PT\, FCAMT \n\nMember of the International Federation of Manipulative Therapists\nCredentialed with The McKenzie Institute International\n\n  \nABOUT THE COURSE \nAfter multiple failed attempts at various physio\, chiro\, massage therapy treatments and injections at pain clinics\, a desperate patient named Pat with neck and back pain seeks your help. Pat reports of having a fall at work 5 years ago and a car accident 3 years ago which exacerbated everything. “Thanks to the a-hole who rear ended me\, I’ve never been the same!” \nAll MRIs and medical investigations have been negative but she feels the disc bulges may be the problem. The doctors have however diagnosed Pat with Fibromyalgia which she has extensively Googled. \nShe has been off work for the past 3 years\, is divorced\, lives alone\, under financial stress and currently has no hobbies or activities that she enjoys. \nShe has also been diagnosed with depression that is being “controlled” by medications. \nWhat can YOU do for Pat? IFC? More manual therapy? Core exercises? Advice to just live with the pain and move on? \nThere are great opportunities for PTs to assist patients such as Pat. The objective of this half-day course is to teach PTs 10 strategies to help patients similar to Pat in their recovery. Recovery does not necessarily mean eliminating pain\, but focus is on improving the quality of life and reducing the “suffering” associated with pain. \n  \nCRITERIA FOR ACCEPTANCE \n\nThis half-day course is ideal for Physical Therapists and all other health care providers involved in the management of persistent pain\nThere are NO prerequisites for this program\n\nGENERAL COURSE INFORMATION \nTax Receipts provided on course date / $30.00 is non-refundable / No refunds for cancellations 2 weeks or less before course date
URL:https://www.aptei.ca/courses/pain-jun-9-2017/
LOCATION:Workers Rehab Centre ( WRC)\, 3700 Westfield Road\, Saint John\, NB\, E2M 7T4\, Canada
END:VEVENT
END:VCALENDAR