BEGIN:VCALENDAR
VERSION:2.0
PRODID:-//Advanced Physical Therapy Education Institute - ECPv5.8.0//NONSGML v1.0//EN
CALSCALE:GREGORIAN
METHOD:PUBLISH
X-WR-CALNAME:Advanced Physical Therapy Education Institute
X-ORIGINAL-URL:https://www.aptei.ca
X-WR-CALDESC:Events for Advanced Physical Therapy Education Institute
BEGIN:VTIMEZONE
TZID:America/Toronto
BEGIN:DAYLIGHT
TZOFFSETFROM:-0500
TZOFFSETTO:-0400
TZNAME:EDT
DTSTART:20240310T070000
END:DAYLIGHT
BEGIN:STANDARD
TZOFFSETFROM:-0400
TZOFFSETTO:-0500
TZNAME:EST
DTSTART:20241103T060000
END:STANDARD
END:VTIMEZONE
BEGIN:VEVENT
DTSTART;TZID=America/Toronto:20240907T080000
DTEND;TZID=America/Toronto:20240908T130000
DTSTAMP:20260422T095619
CREATED:20231211T234148Z
LAST-MODIFIED:20231211T234419Z
UID:37753-1725696000-1725800400@www.aptei.ca
SUMMARY:PERSISTENT PAIN & The Pain Truth Certification (1.5 days)
DESCRIPTION:Instructor: Dr. Bahram Jam; PT\, FCAMT \n\nMember of the International Association for the Study of Pain (IASP)\nMember of the International Federation of Manipulative Therapists\nCredentialed with The McKenzie Institute International\n\n  \nCOURSE OBJECTIVES \nUpon completion of the program\, the Physical Therapist will be confident in differentiating nociceptive\, peripheral neurogenic and central sensitization pain. \nThe primary focus of this program is to address central sensitization in conditions such as persistent spinal pain\, persistent WAD\, Fibromyalgia and complex regional pain syndrome (CRPS). \nManagement will first focus on developing skills for building therapeutic alliance. Evidence will be provided supporting that patient-therapist communication is the highest predictor of success when assisting those with persistent pain. \nSecondly the program will provide practical skills for providing pain education and functional goal setting and reducing the often inevitable focus on pain. \nFinally we will be incorporating the concepts of neuroplasticity to help positively alter the central nervous system with mindfulness movement exercises\, mirror therapy and graded motor imagery (GMI). \nCRITERIA FOR ACCEPTANCE \n\nThis program is for all health care providers with who wish to maximize their understanding and their effectiveness in managing persistent pain.\nThere are NO prerequisites for this program\n\nGENERAL COURSE INFORMATION \n 
URL:https://www.aptei.ca/courses/persistent-pain-sep-2024/
LOCATION:Pro Motion Physiotherapy\, One Promenade Circle / Level 3 - The Promenade Mall\, Thornhill\, ON\, L4J 4P8\, Canada
END:VEVENT
END:VCALENDAR