BEGIN:VCALENDAR
VERSION:2.0
PRODID:-//Advanced Physical Therapy Education Institute - ECPv5.8.0//NONSGML v1.0//EN
CALSCALE:GREGORIAN
METHOD:PUBLISH
X-WR-CALNAME:Advanced Physical Therapy Education Institute
X-ORIGINAL-URL:https://www.aptei.ca
X-WR-CALDESC:Events for Advanced Physical Therapy Education Institute
BEGIN:VTIMEZONE
TZID:America/Toronto
BEGIN:DAYLIGHT
TZOFFSETFROM:-0500
TZOFFSETTO:-0400
TZNAME:EDT
DTSTART:20180311T070000
END:DAYLIGHT
BEGIN:STANDARD
TZOFFSETFROM:-0400
TZOFFSETTO:-0500
TZNAME:EST
DTSTART:20181104T060000
END:STANDARD
END:VTIMEZONE
BEGIN:VEVENT
DTSTART;TZID=America/Toronto:20181006T090000
DTEND;TZID=America/Toronto:20181007T170000
DTSTAMP:20260422T095604
CREATED:20180904T233306Z
LAST-MODIFIED:20180904T234051Z
UID:14746-1538816400-1538931600@www.aptei.ca
SUMMARY:SHOULDER COMPLEX (2 Days): Netherlands
DESCRIPTION:Instructor: Dr. Bahram Jam; PT\, FCAMT \n\nMember of the International Federation of Manipulative Therapists\nCredentialed with The McKenzie Institute International\n\n  \nCOURSE OBJECTIVES \nUpon course completion\, the registrant will be able to identify and treat rotator cuff impingement syndromes and adhesive capsulitis with greater confidence and effectiveness. \nThe registrant will also be able to apply specific clinical tests to help in the biomechanical cause of the impingement. They will be provided with a number of Physical Therapy treatment options and will learn how to apply “clinical reasoning” in deciding on the most effective treatment approach. \nUpon determining the diagnosis\, classification and the potential contributing factors\, physical therapists will be able to administer the most effective treatment / management options including specific exercise / movement prescription\, manual therapies and taping. \nCRITERIA FOR ACCEPTANCE \n\nThis program is restricted to Registered Physical Therapists\nThere are NO prerequisites for this program\n\nGENERAL COURSE INFORMATION \n  \nFor course info and registration please contact    info@sportpleincollege.nl   and visit \nhttp://www.sportpleincollege.nl/ \nhttps://www.sportpleincollege.nl/advanced-physiotherapy2/ \n 
URL:https://www.aptei.ca/courses/shoulder-complex-oct-6-7-2018/
LOCATION:SportpleinEindhoven.nl\, J.C. Dirkxpad 7 \, Eindhoven\, 5631 BZ \, Netherlands
END:VEVENT
END:VCALENDAR