BEGIN:VCALENDAR
VERSION:2.0
PRODID:-//Advanced Physical Therapy Education Institute - ECPv5.8.0//NONSGML v1.0//EN
CALSCALE:GREGORIAN
METHOD:PUBLISH
X-WR-CALNAME:Advanced Physical Therapy Education Institute
X-ORIGINAL-URL:https://www.aptei.ca
X-WR-CALDESC:Events for Advanced Physical Therapy Education Institute
BEGIN:VTIMEZONE
TZID:America/Toronto
BEGIN:DAYLIGHT
TZOFFSETFROM:-0500
TZOFFSETTO:-0400
TZNAME:EDT
DTSTART:20160313T070000
END:DAYLIGHT
BEGIN:STANDARD
TZOFFSETFROM:-0400
TZOFFSETTO:-0500
TZNAME:EST
DTSTART:20161106T060000
END:STANDARD
END:VTIMEZONE
BEGIN:VEVENT
DTSTART;TZID=America/Toronto:20161005T090000
DTEND;TZID=America/Toronto:20161005T170000
DTSTAMP:20260419T165036
CREATED:20160308T023521Z
LAST-MODIFIED:20161017T142126Z
UID:924-1475658000-1475686800@www.aptei.ca
SUMMARY:SHOULDER COMPLEX (Part I): Nanaimo\, BC (COURSE TRANSFERED To Vancouver)
DESCRIPTION:Instructor: Dr. Bahram Jam\, PT\, FCAMT \n\nMember of the International Federation of Manipulative Therapists\nCredentialed with The McKenzie Institute International\n\n  \nCOURSE OBJECTIVES \nUpon course completion\, the registrant will be able to identify and treat rotator cuff impingement syndromes with greater confidence and effectiveness. \nThe registrant will also be able to apply specific clinical tests to help in determining the structure at fault and more importantly the biomechanical cause of the impingement. \nThey will be provided with a number of Physical Therapy treatment options and will learn how to apply “clinical reasoning” in deciding on the most effective manual therapy & exercise based treatment approach. \n  \nCRITERIA FOR ACCEPTANCE \n\nPhysical Therapists who are licensed or who are eligible to be licensed to practice\nThere are NO prerequisites for this course\n\n  \nGENERAL COURSE INFORMATION \n\nCourse material is referenced from up to date research articles\nAn easy to understand practical workbook is provided\nAll instructions are provided in a clear and concise manner in order to ensure an effective and enjoyable learning experience\nNote: As this is primarily a practical course\, please dress appropriately\n\nTax Receipts provided on course date / $30.00 is non-refundable / No refunds for cancellations 2 weeks or less before course date \n  \nRECOMMENDED (OPTIONAL) READINGS \n\nLudewig PM\, Braman JP. Shoulder impingement: biomechanical considerations in rehabilitation. Man Ther. 2011 Feb;16(1):33-9.
URL:https://www.aptei.ca/courses/shoulder-complex-part-i-3/
LOCATION:LifeMark Health Centre: Chinatown\, 181 Keefer Place Unit #230  (At Stadium Station Public Parking available on Abbott & Pender St) \, Vancouver\, ON\, V6B 6C1\, Canada
END:VEVENT
END:VCALENDAR