BEGIN:VCALENDAR
VERSION:2.0
PRODID:-//Advanced Physical Therapy Education Institute - ECPv5.8.0//NONSGML v1.0//EN
CALSCALE:GREGORIAN
METHOD:PUBLISH
X-WR-CALNAME:Advanced Physical Therapy Education Institute
X-ORIGINAL-URL:https://www.aptei.ca
X-WR-CALDESC:Events for Advanced Physical Therapy Education Institute
BEGIN:VTIMEZONE
TZID:America/Toronto
BEGIN:DAYLIGHT
TZOFFSETFROM:-0500
TZOFFSETTO:-0400
TZNAME:EDT
DTSTART:20250309T070000
END:DAYLIGHT
BEGIN:STANDARD
TZOFFSETFROM:-0400
TZOFFSETTO:-0500
TZNAME:EST
DTSTART:20251102T060000
END:STANDARD
END:VTIMEZONE
BEGIN:VEVENT
DTSTART;TZID=America/Toronto:20251122T090000
DTEND;TZID=America/Toronto:20251122T170000
DTSTAMP:20260421T044256
CREATED:20251017T141336Z
LAST-MODIFIED:20251121T021105Z
UID:41458-1763802000-1763830800@www.aptei.ca
SUMMARY:NEW LOCATION - SHOULDER COMPLEX (OTs & PTs)
DESCRIPTION:This is an in-person\, interactive\, fun and PRACTICAL course for both OTs and PTs. The learning experience will be incomparable to an on-line course or anything offered through AI :o) \nWould you like read over 1000 TESTIMONIALS? \nSat. November 22\, 2025 \nInstructor: Dr. Bahram Jam; PT\, FCAMT \n\nMember of the International Association for the Study of Pain (IASP)\nMember of the International Federation of Manipulative Therapists\nCredentialed with The McKenzie Institute International\n\n  \nCOURSE OBJECTIVES \nUpon completion of this course\, you will be confident in applying evidence-based clinical assessment skills for the diagnosis and classification of individuals presenting with various common acute or persistent shoulder pain syndromes. \n(E.g. persistent subacromial sensitivity\,  capsultis (frozen shoulder)\, etc.) \nYou will also be able to confidently identify several potential contributing factors to persistent pain and dysfunction at the shoulder complex. \nUpon determining the diagnosis\, classification and the potential contributing factors such as fear and anxiety. \nYou will be able to administer the most effective treatment / management options including specific exercise / movement prescription\, manual therapies\, neural mobilizations\, taping and most importantly assurance. \nPlease view these 4 short videos to prepare yourself for the course. \nShoulder pain quick “fix” (1-min.) \nBest shoulder exercises (2 min.) \nFrozen shoulder diagnosis (1 min.) \nPreventing iatrogenic shoulder pain (10 min.) \n  \nCRITERIA FOR ACCEPTANCE \n\nThis program is open to all healthcare providers and students awaiting licensing\nThere are NO prerequisites for this program\n\n  \nGENERAL COURSE INFORMATION \nTax Receipts provided on course date / $30.00 is non-refundable / No refunds for cancellations 2 weeks or less before course date
URL:https://www.aptei.ca/courses/shoulder-montreal-nov-2025/
LOCATION:Action Sport Physio – Saint Laurent\, 3300 Boulevard Cote Vertu Ouest local 110\, Saint-Laurent\, QC\, H4R 2B7\, Canada
END:VEVENT
END:VCALENDAR